BEGIN:VCALENDAR
VERSION:2.0
PRODID:icalendar-ruby
CALSCALE:GREGORIAN
METHOD:PUBLISH
BEGIN:VEVENT
DTSTAMP:20260425T151315Z
UID:14-771504@mundopentecostalcolorado.com
DTSTART:20261106T023000Z
DTEND:20261106T040000Z
CLASS:PUBLIC
CREATED:20260425T083953
DESCRIPTION:
LAST-MODIFIED:20260425T083953
LOCATION:Loveland 
SUMMARY:Estudio Biblico | Loveland
URL;VALUE=URI:https://mundopentecostalcolorado.com/events/estudio-biblico-l
 oveland/2026-11-05
ATTACH;FILENAME=4a065457-7d5b-4837-8b28-d6113c5a77af.jpg;FMTTYPE=image/jpeg
 :https://dq5pwpg1q8ru0.cloudfront.net/2024/07/30/15/24/07/269c79c0-9d88-47
 b8-a41e-3d85b3e98578/4a065457-7d5b-4837-8b28-d6113c5a77af.jpg
END:VEVENT
END:VCALENDAR
