BEGIN:VCALENDAR
VERSION:2.0
PRODID:icalendar-ruby
CALSCALE:GREGORIAN
METHOD:PUBLISH
BEGIN:VEVENT
DTSTAMP:20260425T041156Z
UID:57-770510@mundopentecostalcolorado.com
DTSTART:20260926T150000Z
DTEND:20260926T160000Z
CLASS:PUBLIC
CREATED:20260424T201338
DESCRIPTION:Oracion De Damas en Loveland
LAST-MODIFIED:20260424T201338
LOCATION:Loveland
SUMMARY:Oracion De Damas en Loveland
URL;VALUE=URI:https://mundopentecostalcolorado.com/events/oracion-de-damas-
 en-loveland--57/2026-09-26
ATTACH;FILENAME=UOox.jpg;FMTTYPE=image/jpeg:https://dq5pwpg1q8ru0.cloudfron
 t.net/2025/09/03/01/33/20/bb889693-65f8-402c-b25e-607a0a7e47e0/UOox.jpg
END:VEVENT
END:VCALENDAR
